BEGIN:VCALENDAR
PRODID:-//dvv-bw.de//dvv.Portalplattform//DE
VERSION:2.0
METHOD:PUBLISH
BEGIN:VEVENT
DTSTART:20260424T130000Z
DTEND:20260424T134500Z
DTSTAMP:20260422T201035Z
UID:670580752-670580651-1776981600000
SUMMARY:Der Wortschatz - Mehrsprachiges Bilderbuchkino
LOCATION:Kellertheater\, Herrenstraße 24\, 7643 Rastatt
DESCRIPTION:Für Kinder ab 4 Jahren.
CLASS:PUBLIC
X-ALT-DESC;FMTTYPE=text/html:Für Kinder ab 4 Jahren.
END:VEVENT
BEGIN:VEVENT
DTSTART:20260503T130000Z
DTEND:20260503T150000Z
DTSTAMP:20260422T201035Z
UID:669801175-663522655-1777759200000
SUMMARY:Mit Ludwig der Stadtmaus durch Rastatt
LOCATION:Tourist-Information Rastatt\, Kapellenstraße 34
DESCRIPTION:Eine Familien-Erlebnistour für die ganze Familie ist ein Rundgang mit Ludwig\, der Rastatter Stadtmaus\, durch die barocke Innenstadt.
CLASS:PUBLIC
X-ALT-DESC;FMTTYPE=text/html:Eine Familien-Erlebnistour für die ganze Familie ist ein Rundgang mit Ludwig\, der Rastatter Stadtmaus\, durch die barocke Innenstadt.
END:VEVENT
BEGIN:VEVENT
DTSTART:20260515T130000Z
DTEND:20260515T150000Z
DTSTAMP:20260422T201035Z
UID:670580778-669472015-1778796000000
SUMMARY:Die kleine Glitzerblume - Kamishibai Erzähltheater
LOCATION:Kellertheater\, Herrenstraße 24\, 7643 Rastatt
DESCRIPTION:Für Kinder ab 4 Jahren.
CLASS:PUBLIC
X-ALT-DESC;FMTTYPE=text/html:Für Kinder ab 4 Jahren.
END:VEVENT
BEGIN:VEVENT
DTSTART:20260522T130000Z
DTEND:20260522T150000Z
DTSTAMP:20260422T201035Z
UID:670657100-670657000-1779400800000
SUMMARY:"Gamecontroller mit Makey Makey" - Robotik und Coding mit Matthias Lott
LOCATION:Stadtbibliothek Rastatt\, Herrenstraße 24
DESCRIPTION:Für Kinder ab 8 Jahren.
CLASS:PUBLIC
X-ALT-DESC;FMTTYPE=text/html:Für Kinder ab 8 Jahren.
END:VEVENT
BEGIN:VEVENT
DTSTART:20260528T123000Z
DTEND:20260528T143000Z
DTSTAMP:20260422T201035Z
UID:669124455-669124826-1779919200000
SUMMARY:Ein Schloss in Blauweiß - Führung und Fliesen bemalen für Kinder
LOCATION:Schloss Favorite\, Am Schloß Favorite 1
DESCRIPTION:Überall blauweiß – Teller\, Vasen und sogar Möbel tragen im Schloss diese Farben. Tausende von blauweißen Fliesen schmücken Wände\, Treppen und Kamine. Warum Markgräfin Sibylla Augusta diese Farben liebte\, wird bei einem spannenden Rundgang erklärt. Anschließend können die jungen Gäste ihre eigenen Fliesen bemalen.
CLASS:PUBLIC
X-ALT-DESC;FMTTYPE=text/html:Überall blauweiß &ndash; Teller\, Vasen und sogar Möbel tragen im Schloss diese Farben. Tausende von blauweißen Fliesen schmücken Wände\, Treppen und Kamine. Warum Markgräfin Sibylla Augusta diese Farben liebte\, wird bei einem spannenden Rundgang erklärt. Anschließend können die jungen Gäste ihre eigenen Fliesen bemalen.
END:VEVENT
BEGIN:VEVENT
DTSTART:20260613T080000Z
DTEND:20260613T100000Z
DTSTAMP:20260422T201035Z
UID:670580785-670580655-1781301600000
SUMMARY:Spielsachenflohmarkt
LOCATION:Kulturforum Rastatt\, Herrenstraße 26\, 76437 Rastatt
DESCRIPTION:KINDER VERKAUFEN FÜR KINDER\n \nAm Samstag\, 13. Juni\, veranstaltet die Stadtbibliothek Rastatt von 10 bis 12 Uhr wieder einen großen Spielsachenflohmarkt im Hof des Kulturforums. Eine gute Gelegenheit für Kinder und Jugendliche\, ausgelesene Bücher\, gebrauchte Spiele\, CDs oder ungenutztes Spielzeug zu fairen Preisen zu verkaufen oder zu erwerben.
CLASS:PUBLIC
X-ALT-DESC;FMTTYPE=text/html:KINDER VERKAUFEN FÜR KINDER<br> <br>Am Samstag\, 13. Juni\, veranstaltet die Stadtbibliothek Rastatt von 10 bis 12 Uhr wieder einen großen Spielsachenflohmarkt im Hof des Kulturforums. Eine gute Gelegenheit für Kinder und Jugendliche\, ausgelesene Bücher\, gebrauchte Spiele\, CDs oder ungenutztes Spielzeug zu fairen Preisen zu verkaufen oder zu erwerben.
END:VEVENT
BEGIN:VEVENT
DTSTART:20260619T130000Z
DTEND:20260619T150000Z
DTSTAMP:20260422T201035Z
UID:670580786-663346958-1781820000000
SUMMARY:Leonard - ein Traktor sucht das Abenteuer - Lesung mit Kinderbuchautorin Suza Kolb
LOCATION:Kellertheater\, Herrenstraße 24\, 7643 Rastatt
DESCRIPTION:Für Kinder ab 5 Jahren.
CLASS:PUBLIC
X-ALT-DESC;FMTTYPE=text/html:Für Kinder ab 5 Jahren.
END:VEVENT
BEGIN:VEVENT
DTSTART:20260719T130000Z
DTEND:20260719T150000Z
DTSTAMP:20260422T201035Z
UID:669801174-663522655-1784412000000
SUMMARY:Mit Ludwig der Stadtmaus durch Rastatt
LOCATION:Tourist-Information Rastatt\, Kapellenstraße 34
DESCRIPTION:Eine Familien-Erlebnistour für die ganze Familie ist ein Rundgang mit Ludwig\, der Rastatter Stadtmaus\, durch die barocke Innenstadt.
CLASS:PUBLIC
X-ALT-DESC;FMTTYPE=text/html:Eine Familien-Erlebnistour für die ganze Familie ist ein Rundgang mit Ludwig\, der Rastatter Stadtmaus\, durch die barocke Innenstadt.
END:VEVENT
BEGIN:VEVENT
DTSTART:20260804T123000Z
DTEND:20260804T143000Z
DTSTAMP:20260422T201035Z
UID:670152412-669124826-1785794400000
SUMMARY:Ein Schloss in Blauweiß - Führung und Fliesen bemalen für Kinder
LOCATION:Schloss Favorite\, Am Schloß Favorite 1
DESCRIPTION:Überall blauweiß – Teller\, Vasen und sogar Möbel tragen im Schloss diese Farben. Tausende von blauweißen Fliesen schmücken Wände\, Treppen und Kamine. Warum Markgräfin Sibylla Augusta diese Farben liebte\, wird bei einem spannenden Rundgang erklärt. Anschließend können die jungen Gäste ihre eigenen Fliesen bemalen.
CLASS:PUBLIC
X-ALT-DESC;FMTTYPE=text/html:Überall blauweiß &ndash; Teller\, Vasen und sogar Möbel tragen im Schloss diese Farben. Tausende von blauweißen Fliesen schmücken Wände\, Treppen und Kamine. Warum Markgräfin Sibylla Augusta diese Farben liebte\, wird bei einem spannenden Rundgang erklärt. Anschließend können die jungen Gäste ihre eigenen Fliesen bemalen.
END:VEVENT
BEGIN:VEVENT
DTSTART:20260822T133000Z
DTEND:20260822T153000Z
DTSTAMP:20260422T201035Z
UID:670377156-660037754-1787349600000
SUMMARY:Familienführung in den Kasematten
LOCATION:Kasematten am Südring\, Militärstr. 11
DESCRIPTION:
CLASS:PUBLIC
END:VEVENT
BEGIN:VEVENT
DTSTART:20260830T113000Z
DTEND:20260830T133000Z
DTSTAMP:20260422T201035Z
UID:669087074-669086962-1788040800000
SUMMARY:Für die ganz Mutigen - Wir bewachen das Schloss
LOCATION:Residenzschloss Rastatt\, Herrenstraße 18-20
DESCRIPTION:Die mutige Schlosswache nimmt junge Entdeckerinnen und Entdecker mit ins Schloss\, stellt ihnen die markgräfliche Familie vor\, die es zu beschützen gilt\, und erzählt von heroischen Einsätzen und Herausforderungen. Im Wehrgeschichtlichen Museum werden alte Rüstungen und das Equipment zur Verteidigung bestaunt. Doch das ist längst nicht alles! Alle\, die ihre Schlosswächter-Ausbildung absolviert haben\, erhalten eine Urkunde und dürfen ihren Namen eintragen.
CLASS:PUBLIC
X-ALT-DESC;FMTTYPE=text/html:Die mutige Schlosswache nimmt junge Entdeckerinnen und Entdecker mit ins Schloss\, stellt ihnen die markgräfliche Familie vor\, die es zu beschützen gilt\, und erzählt von heroischen Einsätzen und Herausforderungen. Im Wehrgeschichtlichen Museum werden alte Rüstungen und das Equipment zur Verteidigung bestaunt. Doch das ist längst nicht alles! Alle\, die ihre Schlosswächter-Ausbildung absolviert haben\, erhalten eine Urkunde und dürfen ihren Namen eintragen.
END:VEVENT
BEGIN:VEVENT
DTSTART:20260920T130000Z
DTEND:20260920T150000Z
DTSTAMP:20260422T201035Z
UID:669801173-663522655-1789855200000
SUMMARY:Mit Ludwig der Stadtmaus durch Rastatt
LOCATION:Tourist-Information Rastatt\, Kapellenstraße 34
DESCRIPTION:Eine Familien-Erlebnistour für die ganze Familie ist ein Rundgang mit Ludwig\, der Rastatter Stadtmaus\, durch die barocke Innenstadt.
CLASS:PUBLIC
X-ALT-DESC;FMTTYPE=text/html:Eine Familien-Erlebnistour für die ganze Familie ist ein Rundgang mit Ludwig\, der Rastatter Stadtmaus\, durch die barocke Innenstadt.
END:VEVENT
BEGIN:VEVENT
DTSTART:20261017T133000Z
DTEND:20261017T153000Z
DTSTAMP:20260422T201035Z
UID:670377155-660037754-1792188000000
SUMMARY:Familienführung in den Kasematten
LOCATION:Kasematten am Südring\, Militärstr. 11
DESCRIPTION:
CLASS:PUBLIC
END:VEVENT
BEGIN:VEVENT
DTSTART:20261029T123000Z
DTEND:20261029T143000Z
DTSTAMP:20260422T201035Z
UID:669087073-669086962-1793228400000
SUMMARY:Für die ganz Mutigen - Wir bewachen das Schloss
LOCATION:Residenzschloss Rastatt\, Herrenstraße 18-20
DESCRIPTION:Die mutige Schlosswache nimmt junge Entdeckerinnen und Entdecker mit ins Schloss\, stellt ihnen die markgräfliche Familie vor\, die es zu beschützen gilt\, und erzählt von heroischen Einsätzen und Herausforderungen. Im Wehrgeschichtlichen Museum werden alte Rüstungen und das Equipment zur Verteidigung bestaunt. Doch das ist längst nicht alles! Alle\, die ihre Schlosswächter-Ausbildung absolviert haben\, erhalten eine Urkunde und dürfen ihren Namen eintragen.
CLASS:PUBLIC
X-ALT-DESC;FMTTYPE=text/html:Die mutige Schlosswache nimmt junge Entdeckerinnen und Entdecker mit ins Schloss\, stellt ihnen die markgräfliche Familie vor\, die es zu beschützen gilt\, und erzählt von heroischen Einsätzen und Herausforderungen. Im Wehrgeschichtlichen Museum werden alte Rüstungen und das Equipment zur Verteidigung bestaunt. Doch das ist längst nicht alles! Alle\, die ihre Schlosswächter-Ausbildung absolviert haben\, erhalten eine Urkunde und dürfen ihren Namen eintragen.
END:VEVENT
BEGIN:VEVENT
DTSTART:20261205T143000Z
DTEND:20261205T163000Z
DTSTAMP:20260422T201035Z
UID:670377154-660037754-1796425200000
SUMMARY:Familienführung in den Kasematten
LOCATION:Kasematten am Südring\, Militärstr. 11
DESCRIPTION:
CLASS:PUBLIC
END:VEVENT
END:VCALENDAR
